BEGIN:VCALENDAR
VERSION:2.0
PRODID:-//Dessins centrés bibliques - ECPv6.15.20//NONSGML v1.0//EN
CALSCALE:GREGORIAN
METHOD:PUBLISH
X-ORIGINAL-URL:https://mandalasbibliques.org
X-WR-CALDESC:Évènements pour Dessins centrés bibliques
REFRESH-INTERVAL;VALUE=DURATION:PT1H
X-Robots-Tag:noindex
X-PUBLISHED-TTL:PT1H
BEGIN:VTIMEZONE
TZID:Europe/Paris
BEGIN:DAYLIGHT
TZOFFSETFROM:+0100
TZOFFSETTO:+0200
TZNAME:CEST
DTSTART:20240331T010000
END:DAYLIGHT
BEGIN:STANDARD
TZOFFSETFROM:+0200
TZOFFSETTO:+0100
TZNAME:CET
DTSTART:20241027T010000
END:STANDARD
BEGIN:DAYLIGHT
TZOFFSETFROM:+0100
TZOFFSETTO:+0200
TZNAME:CEST
DTSTART:20250330T010000
END:DAYLIGHT
BEGIN:STANDARD
TZOFFSETFROM:+0200
TZOFFSETTO:+0100
TZNAME:CET
DTSTART:20251026T010000
END:STANDARD
BEGIN:DAYLIGHT
TZOFFSETFROM:+0100
TZOFFSETTO:+0200
TZNAME:CEST
DTSTART:20260329T010000
END:DAYLIGHT
BEGIN:STANDARD
TZOFFSETFROM:+0200
TZOFFSETTO:+0100
TZNAME:CET
DTSTART:20261025T010000
END:STANDARD
END:VTIMEZONE
BEGIN:VEVENT
DTSTART;TZID=Europe/Paris:20250215T093000
DTEND;TZID=Europe/Paris:20250215T170000
DTSTAMP:20260425T124351
CREATED:20241203T183708Z
LAST-MODIFIED:20250127T094846Z
UID:8866-1739611800-1739638800@mandalasbibliques.org
SUMMARY:Réveiller l’espérance (Aube)
DESCRIPTION:Le contexte actuel est parfois éprouvant et source d’insécurité. L’horizon peut sembler bouché… Au cœur de ces réalités\, comment garder l’espérance\, rester dans une attente confiante ?  \n\n\n\nLa matinée sera consacrée à un voyage dans la Bible sur ce thème de l’espérance\n\n\n\nLa Bible ne donne pas de solutions toutes faites mais elle témoigne que des hommes et des femmes\, au long des temps\, ont réussi à traverser des épreuves et à garder l’espérance. Il sera bon de regarder ce qui les a aidé à ne pas sombrer\, à continuer d’espérer. C’est ce que nous ferons le matin\, à travers un voyage dans l’Ancien et le Nouveau Testament. \n\n\n\n De la tête au coeur : l’après-midi\, la Parole pourra descendre en nous\n\n\n\nPour que le texte biblique devienne vraiment Parole de Dieu\, cela demande de s’en imprégner\, de le laisser descendre en soi\, en passant des connaissances au cœur. Les formes centrées que sont les mandalas aident à s’apaiser\, se recentrer. Accompagnés de temps de méditations ils favoriseront un chemin intérieur \n\n\n\nAucune compétence artistique n’est requise. Tout le matériel pour mettre en couleur les dessins centrés – mandalas est fourni. \n\n\n\nDate : le samedi 15 février de 9h30 à 17h00. \n\n\n\nAnimatrice : Sr Sylvie\,  Sœur des Campagnes\, bibliste\, formation en dessins centrés\, mandalas. \n\n\n\nPublic : adultes (autour de 10 personnes maximum) \n\n\n\nLieu : Bar Sur Aube\, salle Jeanne-d’Arc\, Salle Jeanne D’arc\, rue du maréchal Joffe \n\n\n\nParticipation financière :\n\n\n\nFrais d’organisation : entre 30 et 65 euros (Animation\, matériel\, kilomètres) \n\n\n\nFrais de salle et repas  : entre 5 et 15 euros \n\n\n\nPour des questions d’organisation\, l’inscription est nécessaire :\n\n\n\n← Retour Merci pour votre réponse. ✨\n\n\n					\n						\n							\n							\n						\n						\n						\n						\n						\n							\n								\n									\n										\n										\n									\n									\n										\n										\n									\n								\n							\n						\n						\n							\n								\n									\n									\n										\n									\n									\n									\n								\n							\n						\n					\n				\n\n\n\n\nNom(obligatoire)\n\n \n			\n				\n					\n						\n						\n						\n					\n				\n				\n			 \n	\n\n\n\n\nPrénom(obligatoire)\n\n \n			\n				\n					\n						\n						\n						\n					\n				\n				\n			 \n	\n\n\n\n\nAdresse e-mail(obligatoire)\n\n \n			\n				\n					\n						\n						\n						\n					\n				\n				\n			 \n	\n\n\n\n\nTéléphone(obligatoire)\n\n \n			\n				\n					\n						\n						\n						\n					\n				\n				\n			 \n	\n\n\n\n\nDépartement(obligatoire)\n\n \n			\n				\n					\n						\n						\n						\n					\n				\n				\n			 \n	\n\n\n\n\n		 \n		En envoyant vos informations\, vous nous autorisez à vous envoyer des e-mails. Vous pouvez vous désabonner à tout moment.\n\n\n			\n				\n					\n						\n						\n						\n					\n				\n				\n				\n\n\n\n				\n					\n				\n				 S’inscrireEnvoi du formulaire\n		\n		\n		\nΔ
URL:https://mandalasbibliques.org/event/reveiller-lesperance-aube/
ATTACH;FMTTYPE=image/jpeg:https://mandalasbibliques.org/wp-content/uploads/2024/12/Reveiller_Esperance_titre.jpg
END:VEVENT
END:VCALENDAR