BEGIN:VCALENDAR
VERSION:2.0
PRODID:-//Dessins centrés bibliques - ECPv6.15.20//NONSGML v1.0//EN
CALSCALE:GREGORIAN
METHOD:PUBLISH
X-ORIGINAL-URL:https://mandalasbibliques.org
X-WR-CALDESC:Évènements pour Dessins centrés bibliques
REFRESH-INTERVAL;VALUE=DURATION:PT1H
X-Robots-Tag:noindex
X-PUBLISHED-TTL:PT1H
BEGIN:VTIMEZONE
TZID:Europe/Paris
BEGIN:DAYLIGHT
TZOFFSETFROM:+0100
TZOFFSETTO:+0200
TZNAME:CEST
DTSTART:20250330T010000
END:DAYLIGHT
BEGIN:STANDARD
TZOFFSETFROM:+0200
TZOFFSETTO:+0100
TZNAME:CET
DTSTART:20251026T010000
END:STANDARD
BEGIN:DAYLIGHT
TZOFFSETFROM:+0100
TZOFFSETTO:+0200
TZNAME:CEST
DTSTART:20260329T010000
END:DAYLIGHT
BEGIN:STANDARD
TZOFFSETFROM:+0200
TZOFFSETTO:+0100
TZNAME:CET
DTSTART:20261025T010000
END:STANDARD
BEGIN:DAYLIGHT
TZOFFSETFROM:+0100
TZOFFSETTO:+0200
TZNAME:CEST
DTSTART:20270328T010000
END:DAYLIGHT
BEGIN:STANDARD
TZOFFSETFROM:+0200
TZOFFSETTO:+0100
TZNAME:CET
DTSTART:20271031T010000
END:STANDARD
END:VTIMEZONE
BEGIN:VEVENT
DTSTART;TZID=Europe/Paris:20260307T093000
DTEND;TZID=Europe/Paris:20260307T170000
DTSTAMP:20260424T184604
CREATED:20260130T175826Z
LAST-MODIFIED:20260130T182538Z
UID:10691-1772875800-1772902800@mandalasbibliques.org
SUMMARY:Accueillir la Paix
DESCRIPTION:Voici une journée pour se poser\, faire silence\, accueillir la paix qui vient de Dieu. \n\n\n\nJuste avant sa passion\, Jésus a dit à ses disciples (et donc à chacun.e de nous) : « Je vous laisse la paix\, je vous donne ma paix » Jean 14\,27. Cette paix qui vient de Dieu\, nous avons toujours besoin de l’accueillir vu le contexte actuel et parce que ce n’est jamais fait une fois pour toute. \n\n\n\nDurant cette journée\, le matin\, nous prendrons le temps de voyager dans la Bible. De l’Ancien au Nouveau Testament\, nous verrons comment la paix est un chemin\, qui passe par des hauts et des bas… mais\, en Dieu\, en Christ\, nous avons un don incroyable qui nous est fait ! \n\n\n\nL’après midi\, la Parole pourra descendre en nous par la méditation et la mise en couleur de mandala Pour que le texte biblique devienne vraiment Parole de Dieu\, cela demande de s’en imprégner\, de le laisser descendre en soi\, en passant des connaissances au cœur. Les formes centrées que sont les mandalas aident à s’apaiser\, se recentrer. Accompagnés de temps de méditations ils favoriseront un chemin intérieur  \n\n\n\nAucune compétence artistique n’est requise.  \n\n\n\nTout le matériel pour mettre en couleur les mandalas est fourni. \n\n\n\nDate : samedi 7 mars 2026 de 9h30 à 17h00 \n\n\n\nPublic : adultes (autour de 10 personnes). \n\n\n\nAnimatrice : Sr Sylvie Mériaux\, Sœur des Campagnes\, bibliste\, formation en dessins centrés\, mandalas. \n\n\n\nParticipation :  \n\n\n\n\nLibre participation entre 25 et 60 € pour la journée (Animation\, matériel et frais de voyage)\n\n\n\nRepas partagé à partir de ce que chacun.e apportera.\n\n\n\n\n\n\nPour des questions d’organisation\, merci de vous inscrire : \n\n\n\n← Retour Merci pour votre réponse. ✨\n\n\n					\n						\n							\n							\n						\n						\n						\n						\n						\n							\n								\n									\n										\n										\n									\n									\n										\n										\n									\n								\n							\n						\n						\n							\n								\n									\n									\n										\n									\n									\n									\n								\n							\n						\n					\n				\n\n\n\n\nNom(obligatoire)\n\n \n			\n				\n					\n						\n						\n						\n					\n				\n				\n			 \n	\n\n\n\n\nPrénom(obligatoire)\n\n \n			\n				\n					\n						\n						\n						\n					\n				\n				\n			 \n	\n\n\n\n\nE-mail(obligatoire)\n\n \n			\n				\n					\n						\n						\n						\n					\n				\n				\n			 \n	\n\n\n\n\nTéléphone(obligatoire)\n		\n				\n					\n\n						\n							​\n							\n								\n									\n								\n							\n							\n						\n						\n							\n							\n								\n									\n										​\n										\n										\n									\n								\n							\n						\n					\n				\n				\n				\n		\n		\n			\n				\n					\n						\n						\n						\n					\n				\n				\n				\n\n\n\n\nDépartement(obligatoire)\n\n \n			\n				\n					\n						\n						\n						\n					\n				\n				\n			 \n	\n\n\n\n\n\n	\n		Sélectionner une option\n		Moteur de recherche\n		Réseaux sociaux\n		TV\n		Radio\n		Ami ou famille\n	\n\n\n			\n				\n					\n						\n						\n						\n					\n				\n				\n				\n\n\n\n\nMessage\n\n \n			\n				\n					\n						\n						\n						\n					\n				\n				\n			\n	\n\n\n\n\n				\n					\n				\n				 Envoyer\n\n		\n		\n		\nΔ
URL:https://mandalasbibliques.org/event/accueillir-la-paix/
LOCATION:Christ Roi\, Salle paroissiale\, Migennes\, 89400\, France
CATEGORIES:Journée BIBLE et mandalas
ATTACH;FMTTYPE=image/jpeg:https://mandalasbibliques.org/wp-content/uploads/2026/01/Paix_couleur16_9_400.jpg
END:VEVENT
END:VCALENDAR